Workbook

Sheet جلد
A5: صندوق اختصاصی بازارگردانی سپنتا
A6: صورت وضعیت پرتفوی
A7: برای ماه منتهی به 1405/05/31

Sheet سهام
A1: صندوق اختصاصی بازارگردانی سپنتا
A2: صورت وضعیت پرتفوی
A3: برای ماه منتهی به 1405/05/31
A4: 1- سرمایه گذاری ها
A5: 1-1-سرمایه گذاری در سهام و حق تقدم سهام
E6: 1405/04/31 | K6: تغییرات طی دوره | S6: 1405/05/31
E7: تعداد | G7: بهای تمام شده | I7: خالص ارزش فروش | K7: خرید طی دوره | O7: فروش طی دوره | S7: تعداد | U7: قیمت بازار هر سهم | W7: بهای تمام شده | Y7: خالص ارزش فروش | AA7: درصد به کل دارایی ها
A8: نام شرکت | K8: تعداد | M8: بهای تمام شده | O8: تعداد | Q8: مبلغ فروش
A9: بیمه زندگی خاورمیانه | E9: 135442957 | G9: 454423342766 | I9: 7.2948271e+11 | K9: 207348 | M9: 1326255086 | O9: -3254166 | Q9: 20215245819 | S9: 132396139 | U9: 6140 | W9: 444830185452 | Y9: 8.1229448e+11 | AA9: 18.181649
A10: بیمه حافظ | E10: 237062628 | G10: 649073802714 | I10: 5.6164831e+11 | K10: 0 | M10: 0 | O10: 0 | Q10: 0 | S10: 237062628 | U10: 2309 | W10: 649073802714 | Y10: 5.469616e+11 | AA10: 12.242683
A11: س. توسعه و عمران استان کرمان | E11: 168979953 | G11: 187934903546 | I11: 1.6311058e+11 | K11: 99089984 | M11: 115285335711 | O11: -150183013 | Q11: 166806704997 | S11: 117886924 | U11: 1208 | W11: 135288472749 | Y11: 1.4229917e+11 | AA11: 3.1850932
A12: قند شیرین خراسان | E12: 114826759 | G12: 361747255396 | I12: 3.6372419e+11 | K12: 14216622 | M12: 45691730940 | O12: -14474371 | Q12: 48226960620 | S12: 114569010 | U12: 3140 | W12: 361824902343 | Y12: 3.5947328e+11 | AA12: 8.0461177
A13: جمع | E13: =SUM(E9:E12) -> 656312297 | G13: =SUM(G9:G12) -> 1653179304422 | I13: =SUM(I9:I12) -> 1.8179658e+12 | K13: =SUM(K9:K12) -> 113513954 | M13: =SUM(M9:M12) -> 162303321737 | O13: =SUM(O9:O12) -> -167911550 | Q13: =SUM(Q9:Q12) -> 235248911436 | S13: =SUM(S9:S12) -> 601914701 | W13: =SUM(W9:W12) -> 1591017363258 | Y13: =SUM(Y9:Y12) -> 1.8610285e+12 | AA13: =SUM(AA9:AA12) -> 41.655542

Sheet واحدهای صندوق
A1: صندوق اختصاصی بازارگردانی سپنتا
A2: صورت وضعیت پرتفوی
A3: برای ماه منتهی به 1405/05/31
A5: 1-2-سرمایه‌گذاری در واحدهای صندوق های سرمایه گذاری
D6: 1405/04/31 | J6: تغییرات طی دوره | R6: 1405/05/31
D7: تعداد واحد | F7: بهای تمام شده | H7: خالص ارزش فروش | J7: خرید/صدور طی دوره | N7: فروش/ابطال طی دوره | R7: تعداد | T7: قیمت ابطال / بازار هر واحد | V7: بهای تمام شده | X7: خالص ارزش فروش | Z7: درصد به کل دارایی ها
A8: صندوق | J8: تعداد | L8: بهای تمام شده | N8: تعداد | P8: مبلغ فروش
A9: صندوق درآمد ثابت سام | D9: 31086222 | F9: 637614808864 | H9: 6.3871258e+11 | J9: 729577403 | L9: 15265584799856 | N9: -719619026 | P9: 15049503453201 | R9: 41044599 | T9: 21133 | V9: 866368171140 | X9: 8.6733154e+11 | Z9: 19.413547
A10: صندوق سهامی بخشی صنایع سورنا | D10: 12918179 | F10: 244527818370 | H10: 2.4476436e+11 | J10: 3878928 | L10: 88438313116 | N10: -3902429 | P10: 84118196062 | R10: 12894678 | T10: 24231 | V10: 258416623054 | X10: 3.1230722e+11 | Z10: 6.990396
A11: صندوق سهامی اکسیژن | D11: 1803059 | F11: 52292939100 | H11: 5.1003097e+10 | J11: 12783082 | L11: 438392735341 | N11: -12767548 | P11: 433409005255 | R11: 1818593 | T11: 34528 | V11: 62518498106 | X11: 6.2763495e+10 | Z11: 1.40484
A12: صندوق درآمد ثابت کارآمد | D12: 1622984 | F12: 24758062139 | H12: 2.830576e+10 | J12: 3979874 | L12: 69908834315 | N12: -5552948 | P12: 98365673398 | R12: 49910 | T12: 17917 | V12: 876698589 | X12: 8.9390772e+08 | Z12: 0.020008404
A13: صندوق سهامی بخشی صنایع سورنا2 | D13: 16226545 | F13: 383932467310 | H13: 3.9913536e+11 | J13: 30525551 | L13: 796266801626 | N13: -29206112 | P13: 757082452381 | R13: 17545984 | T13: 29045 | V13: 459937222800 | X13: 5.0938868e+11 | Z13: 11.401685
A14: صندوق درآمد ثابت کارا | D14: 81220 | F14: 2759979545 | H14: 2.8503391e+09 | J14: 3000701 | L14: 107542852541 | N14: -3000701 | P14: 107736467688 | R14: 81220 | T14: 36054 | V14: 2761366583 | X14: 2.9272261e+09 | Z14: 0.065520322
A15: صندوق سهامی سهم نگر جام جم | D15: 13598326 | F15: 159231609978 | H15: 1.6472231e+11 | J15: 11195327 | L15: 158492680320 | N15: -9172220 | P15: 131139977148 | R15: 15621433 | T15: 15696 | V15: 205123770039 | X15: 2.4508122e+11 | Z15: 5.4856715
A16: صندوق سهامی بخشی صنایع سورنا3 | D16: 16872531 | F16: 200359966534 | H16: 1.9881877e+11 | J16: 28037646 | L16: 375546938651 | N16: -30749401 | P16: 402930547772 | R16: 14160776 | T16: 15181 | V16: 194080489248 | X16: 2.1487585e+11 | Z16: 4.8095824
A17: صندوق درآمد ثابت آبی هامون | D17: 0 | F17: 0 | H17: 0 | J17: 10000000 | L17: 100036875000 | N17: 0 | P17: 0 | R17: 10000000 | T17: 10000 | V17: 100036875000 | X17: 99963125000 | Z17: 2.2374822
A18: صندوق درآمد ثابت ثروت پویا | D18: 0 | F18: 0 | H18: 0 | J18: 3467057 | L18: 93509931318 | N18: -1768271 | P18: 48400100895 | R18: 1698786 | T18: 27484 | V18: 45817926323 | X18: 4.6672218e+10 | Z18: 1.0446678
A19: جمع | D19: =SUM(D9:D18) -> 94209066 | F19: =SUM(F9:F18) -> 1705477651840 | H19: =SUM(H9:H18) -> 1.7283126e+12 | J19: =SUM(J9:J18) -> 836445569 | L19: =SUM(L9:L18) -> 17493720762084 | N19: =SUM(N9:N18) -> -815738656 | P19: =SUM(P9:P18) -> 17112685873800 | R19: =SUM(R9:R18) -> 114915979 | V19: =SUM(V9:V18) -> 2195937640882 | X19: =SUM(X9:X18) -> 2.3622045e+12 | Z19: =SUM(Z9:Z18) -> 52.873401

Sheet سپرده
A1: صندوق اختصاصی بازارگردانی سپنتا
A2: صورت وضعیت پرتفوی
A3: برای ماه منتهی به 1405/05/31
A5: 1-3-سرمایه گذاری در سپرده بانکی
A6: مشخصات حساب بانکی | C6: 1405/04/31 | E6: تغییرات طی دوره | I6: 1405/05/31
A7: سپرده های بانکی | C7: مبلغ | E7: افزایش | G7: کاهش | I7: مبلغ | K7: درصد به کل دارایی ها
A8: سپرده بانکی نزد بانک گردشگری | C8: 14511127 | E8: 75911723210 | G8: 906761848 | I8: 75019472489 | K8: 1.6791665
A9: سپرده بانکی نزد بانک پاسارگاد | C9: 8215680 | E9: 40753978242 | G9: 40758422800 | I9: 3771122 | K9: 8.4409309e-05
A10: سپرده بانکی نزد بانک خاورمیانه | C10: 79006636095 | E10: 3757653267114 | G10: 3834546070624 | I10: 2113832585 | K10: 0.047314074
A11: سپرده بانکی نزد بانک شهر | C11: 6933242 | E11: 29443 | G11: 0 | I11: 6962685 | K11: 0.0001558463
A12: سپرده بانکی نزد بانک پاسارگاد | C12: 40000000000 | E12: 0 | G12: 40000000000 | I12: 0 | K12: 0
A13: سپرده کوتاه مدت بانک ملی بورس اوراق بهادار | C13: 6654967 | E13: 23703 | G13: 0 | I13: 6678670 | K13: 0.00014948918
A14: سپرده بانکی نزد بانک ملت | C14: 0 | E14: 60005000000 | G14: 60001887654 | I14: 3112346 | K14: 6.9663876e-05
A15: جمع | C15: =SUM(C8:C14) -> 119042951111 | E15: =SUM(E8:E14) -> 3934324021712 | G15: =SUM(G8:G14) -> 3976213142926 | I15: =SUM(I8:I14) -> 77153829897 | K15: =SUM(K8:K14) -> 1.72694

Sheet درآمدها
A1: صندوق اختصاصی بازارگردانی سپنتا
A2: صورت وضعیت درآمدها
A3: برای ماه منتهی به 1405/05/31
A5: 2-درآمد حاصل از سرمایه گذاری ها
A6: شرح | D6: یادداشت | F6: مبلغ | H6: درصد از کل درآمدها | J6: درصد از کل دارایی ها
A7: درآمد حاصل از سرمایه گذاری در سهام و حق تقدم سهام | D7: 2-1 | F7: ='درآمد سرمایه گذاری در سهام'!K14 -> 161678039197 | H7: 38.981686 | J7: 3.6188518
A8: درآمد حاصل از سرمایه گذاری در واحدهای صندوق های سرمایه گذاری | D8: 2-2 | F8: ='درآمد سرمایه گذاری در صندوق'!H29 -> 252857022404 | H8: 60.965566 | J8: 5.6597178
A9: درآمد حاصل از سرمایه گذاری در سپرده بانکی و گواهی سپرده | D9: 2-3 | F9: ='درآمد سپرده بانکی'!C15 -> 217748065 | H9: 0.052500555 | J9: 0.0048738714
A10: سایر درآمدها | D10: 2-4 | F10: ='سایر درآمدها'!F11 -> 1026349 | H10: 0.0002474598 | J10: 2.2972847e-05
A11: جمع | F11: =SUM(F7:F10) -> 414753836015 | H11: =SUM(H7:H10) -> 100 | J11: =SUM(J7:J10) -> 9.2834664

Sheet درآمد سرمایه گذاری در سهام
A1: صندوق اختصاصی بازارگردانی سپنتا
A2: صورت وضعیت درآمدها
A3: برای ماه منتهی به 1405/05/31
A5: 2-1-درآمد حاصل از سرمایه گذاری در سهام و حق تقدم سهام
D6: طی مرداد ماه | M6: از ابتدای سال مالی تا پایان مرداد ماه
D7: درآمد فروش | F7: درآمد تغییر ارزش | H7: درآمد سود سهام | I7: درآمد سود سهام | K7: جمع | M7: درآمد فروش | O7: درآمد تغییر ارزش | Q7: درآمد سود سهام | R7: درآمد سود سهام | T7: جمع
A8: سهام | D8: یادداشت 2-3 | F8: یادداشت 3-3 | H8: یادداشت 4-3 | I8: یادداشت 4-3 | K8: مبلغ | M8: یادداشت 2-3 | O8: یادداشت 3-3 | Q8: یادداشت 4-3 | R8: یادداشت 4-3 | T8: مبلغ
A9: س. توسعه و عمران استان کرمان | D9: ='درآمد ناشی از فروش'!I8 -> -1125061511 | F9: ='درآمد ناشی از تغییر قیمت اوراق'!I19 -> 31835029087 | I9: ='درآمد سود سهام'!M8 -> 0 | K9: =D9+F9+I9 -> 30709967576 | M9: ='درآمد ناشی از فروش'!Q8 -> -26294027884 | O9: ='درآمد ناشی از تغییر قیمت اوراق'!Q19 -> 7010701816 | R9: ='درآمد سود سهام'!S8 -> 911661848 | T9: =M9+O9+R9 -> -18371664220
A10: بیمه حافظ | D10: ='درآمد ناشی از فروش'!I24 -> 0 | F10: ='درآمد ناشی از تغییر قیمت اوراق'!I17 -> -14686712544 | I10: ='درآمد سود سهام'!M9 -> 0 | K10: =D10+F10+I10 -> -14686712544 | M10: ='درآمد ناشی از فروش'!Q24 -> 1299109087 | O10: ='درآمد ناشی از تغییر قیمت اوراق'!Q17 -> -56089909745 | R10: ='درآمد سود سهام'!S9 -> 7659164572 | T10: =M10+O10+R10 -> -47131636086
A11: بیمه زندگی خاورمیانه | D11: ='درآمد ناشی از فروش'!I11 -> 8133836734 | F11: ='درآمد ناشی از تغییر قیمت اوراق'!I13 -> 93566924416 | I11: ='درآمد سود سهام'!M10 -> 45669694822 | K11: =D11+F11+I11 -> 147370455972 | M11: ='درآمد ناشی از فروش'!Q11 -> 17446475978 | O11: ='درآمد ناشی از تغییر قیمت اوراق'!Q13 -> 320255122819 | R11: ='درآمد سود سهام'!S10 -> 45669694822 | T11: =M11+O11+R11 -> 383371293619
A12: قند شیرین خراسان | D12: ='درآمد ناشی از فروش'!I10 -> 2612876627 | F12: ='درآمد ناشی از تغییر قیمت اوراق'!I16 -> -4328548434 | I12: 0 | K12: =D12+F12+I12 -> -1715671807 | M12: ='درآمد ناشی از فروش'!Q10 -> 4379800207 | O12: ='درآمد ناشی از تغییر قیمت اوراق'!Q16 -> -2351618428 | R12: 0 | T12: =M12+O12+R12 -> 2028181779
A13: ح . بیمه حافظ | D13: ='درآمد ناشی از فروش'!I23 -> 0 | F13: 0 | I13: 0 | K13: =D13+F13+I13 -> 0 | M13: ='درآمد ناشی از فروش'!Q23 -> -267755080492 | O13: 0 | R13: 0 | T13: =M13+O13+R13 -> -267755080492
A14: جمع | D14: =SUM(D9:D13) -> 9621651850 | F14: =SUM(F9:F13) -> 106386692525 | H14: =SUM(H9:H11) -> 0 | I14: =SUM(I9:I13) -> 45669694822 | K14: =SUM(K9:K13) -> 161678039197 | M14: =SUM(M9:M13) -> -270923723104 | O14: =SUM(O9:O13) -> 268824296462 | Q14: =SUM(Q9:Q11) -> 0 | R14: =SUM(R9:R13) -> 54240521242 | T14: =SUM(T9:T13) -> 52141094600

Sheet درآمد سرمایه گذاری در صندوق
A1: صندوق اختصاصی بازارگردانی سپنتا
A2: صورت وضعیت درآمدها
A3: برای ماه منتهی به 1405/05/31
A5: 2-2-درآمد حاصل از سرمایه­گذاری در واحدهای صندوق سرمایه گذاری
D6: طی مرداد ماه | J6: از ابتدای سال مالی تا پایان مرداد ماه
A7: صندوق | D7: درآمد فروش | F7: درآمد تغییر ارزش | H7: جمع | J7: درآمد فروش | L7: درآمد تغییر ارزش | N7: جمع
D8: یادداشت 2-3 | F8: یادداشت 3-3 | H8: مبلغ | J8: یادداشت 2-3 | L8: یادداشت3-3 | N8: مبلغ
A9: صندوق درآمد ثابت آریا | D9: ='درآمد ناشی از فروش'!I20 -> 0 | F9: 0 | H9: =F9+D9 -> 0 | J9: ='درآمد ناشی از فروش'!Q20 -> 1371248068 | L9: 0 | N9: =L9+J9 -> 1371248068
A10: صندوق سهامی اکسیژن | D10: ='درآمد ناشی از فروش'!I9 -> 5241828976 | F10: ='درآمد ناشی از تغییر قیمت اوراق'!I8 -> 1534838071 | H10: =F10+D10 -> 6776667047 | J10: ='درآمد ناشی از فروش'!Q9 -> 26999091988 | L10: ='درآمد ناشی از تغییر قیمت اوراق'!Q8 -> 244996504 | N10: =L10+J10 -> 27244088492
A11: صندوق درآمد ثابت اطمینان هیوا | D11: ='درآمد ناشی از فروش'!I29 -> 0 | F11: 0 | H11: =F11+D11 -> 0 | J11: ='درآمد ناشی از فروش'!Q29 -> 302000533 | L11: 0 | N11: =L11+J11 -> 302000533
A12: صندوق درآمد ثابت ماه آفرید سپینود | D12: ='درآمد ناشی از فروش'!I30 -> 0 | F12: 0 | H12: =F12+D12 -> 0 | J12: ='درآمد ناشی از فروش'!Q30 -> 11953076050 | L12: 0 | N12: =L12+J12 -> 11953076050
A13: صندوق سهامی بخشی صنایع سورنا2 | D13: ='درآمد ناشی از فروش'!I13 -> 36820406245 | F13: ='درآمد ناشی از تغییر قیمت اوراق'!I12 -> 34248564019 | H13: =F13+D13 -> 71068970264 | J13: ='درآمد ناشی از فروش'!Q13 -> 252033157154 | L13: ='درآمد ناشی از تغییر قیمت اوراق'!Q12 -> 49451455852 | N13: =L13+J13 -> 301484613006
A14: صندوق سهامی بخشی صنایع سورنا3 | D14: ='درآمد ناشی از فروش'!I17 -> 21104131835 | F14: ='درآمد ناشی از تغییر قیمت اوراق'!I14 -> 22336560126 | H14: =F14+D14 -> 43440691961 | J14: ='درآمد ناشی از فروش'!Q17 -> 40824962394 | L14: ='درآمد ناشی از تغییر قیمت اوراق'!Q14 -> 20795362827 | N14: =L14+J14 -> 61620325221
A15: صندوق سهامی سهم نگر جام جم | D15: ='درآمد ناشی از فروش'!I14 -> 18539420135 | F15: ='درآمد ناشی از تغییر قیمت اوراق'!I20 -> 34466794153 | H15: =F15+D15 -> 53006214288 | J15: ='درآمد ناشی از فروش'!Q14 -> 67807631456 | L15: ='درآمد ناشی از تغییر قیمت اوراق'!Q20 -> 39957412912 | N15: =L15+J15 -> 107765044368
A16: صندوق درآمد ثابت کارا | D16: ='درآمد ناشی از فروش'!I15 -> 195002185 | F16: ='درآمد ناشی از تغییر قیمت اوراق'!I9 -> 75499940 | H16: =F16+D16 -> 270502125 | J16: ='درآمد ناشی از فروش'!Q15 -> 1036755999 | L16: ='درآمد ناشی از تغییر قیمت اوراق'!Q9 -> 165859484 | N16: =L16+J16 -> 1202615483
A17: صندوق درآمد ثابت سام | D17: ='درآمد ناشی از فروش'!I18 -> 12672015621 | F17: ='درآمد ناشی از تغییر قیمت اوراق'!I18 -> -134403156 | H17: =F17+D17 -> 12537612465 | J17: ='درآمد ناشی از فروش'!Q18 -> 101015624864 | L17: ='درآمد ناشی از تغییر قیمت اوراق'!Q18 -> 963369108 | N17: =L17+J17 -> 101978993972
A18: صندوق سهامی بخشی صنایع سورنا | D18: ='درآمد ناشی از فروش'!I19 -> 9568687630 | F18: ='درآمد ناشی از تغییر قیمت اوراق'!I11 -> 53654052797 | H18: =F18+D18 -> 63222740427 | J18: ='درآمد ناشی از فروش'!Q19 -> 99491598427 | L18: ='درآمد ناشی از تغییر قیمت اوراق'!Q11 -> 53890592130 | N18: =L18+J18 -> 153382190557
A19: صندوق درآمد ثابت بازده مانا | D19: ='درآمد ناشی از فروش'!I21 -> 0 | F19: 0 | H19: =F19+D19 -> 0 | J19: ='درآمد ناشی از فروش'!Q21 -> 756348613 | L19: 0 | N19: =L19+J19 -> 756348613
A20: صندوق درآمد ثابت ویستا | D20: ='درآمد ناشی از فروش'!I25 -> 0 | F20: 0 | H20: =F20+D20 -> 0 | J20: ='درآمد ناشی از فروش'!Q25 -> 197594183 | L20: 0 | N20: =L20+J20 -> 197594183
A21: صندوق درآمد ثابت اکسیژن | D21: ='درآمد ناشی از فروش'!I26 -> 0 | F21: 0 | H21: =F21+D21 -> 0 | J21: ='درآمد ناشی از فروش'!Q26 -> 41952273 | L21: 0 | N21: =L21+J21 -> 41952273
A22: صندوق درآمد ثابت رشد پایدار آبان | D22: ='درآمد ناشی از فروش'!I27 -> 0 | F22: 0 | H22: =F22+D22 -> 0 | J22: ='درآمد ناشی از فروش'!Q27 -> 115003710 | L22: 0 | N22: =L22+J22 -> 115003710
A23: صندوق درآمد ثابت کیمیا | D23: ='درآمد ناشی از فروش'!I28 -> 0 | F23: 0 | H23: =F23+D23 -> 0 | J23: ='درآمد ناشی از فروش'!Q28 -> 22703346 | L23: 0 | N23: =L23+J23 -> 22703346
A24: صندوق درآمد ثابت خاتم ایساتیس پویا | D24: ='درآمد ناشی از فروش'!I31 -> 0 | F24: 0 | H24: =F24+D24 -> 0 | J24: ='درآمد ناشی از فروش'!Q31 -> 1770993700 | L24: 0 | N24: =L24+J24 -> 1770993700
A25: صندوق درآمد ثابت کارآمد | D25: ='درآمد ناشی از فروش'!I16 -> 4575475533 | F25: ='درآمد ناشی از تغییر قیمت اوراق'!I10 -> -3530488978 | H25: =F25+D25 -> 1044986555 | J25: ='درآمد ناشی از فروش'!Q16 -> 4575475533 | L25: ='درآمد ناشی از تغییر قیمت اوراق'!Q10 -> 17209131 | N25: =L25+J25 -> 4592684664
A26: صندوق درآمد ثابت سپر سرمایه بیدار | D26: ='درآمد ناشی از فروش'!I22 -> 0 | F26: 0 | H26: =F26+D26 -> 0 | J26: ='درآمد ناشی از فروش'!Q22 -> 1917152370 | L26: 0 | N26: =L26+J26 -> 1917152370
A27: صندوق درآمد ثابت پایا ثروت پویا | D27: ='درآمد ناشی از فروش'!I12 -> 708095900 | F27: ='درآمد ناشی از تغییر قیمت اوراق'!I15 -> 854291372 | H27: =F27+D27 -> 1562387272 | J27: ='درآمد ناشی از فروش'!Q12 -> 708095900 | L27: ='درآمد ناشی از تغییر قیمت اوراق'!Q15 -> 854291372 | N27: =L27+J27 -> 1562387272
A28: صندوق درآمد ثابت آبی هامون | D28: 0 | F28: ='درآمد ناشی از تغییر قیمت اوراق'!I21 -> -73750000 | H28: =F28+D28 -> -73750000 | J28: 0 | L28: ='درآمد ناشی از تغییر قیمت اوراق'!Q21 -> -73750000 | N28: =L28+J28 -> -73750000
A29: جمع | D29: =SUM(D9:D28) -> 109425064060 | F29: =SUM(F9:F28) -> 143431958344 | H29: =SUM(H9:H28) -> 252857022404 | J29: =SUM(J9:J28) -> 612940466561 | L29: =SUM(L9:L28) -> 166266799320 | N29: =SUM(N9:N28) -> 779207265881

Sheet درآمد سپرده بانکی
A1: صندوق اختصاصی بازارگردانی سپنتا
A2: صورت وضعیت درآمدها
A3: برای ماه منتهی به 1405/05/31
A5: 2-3-درآمد حاصل از سرمایه­گذاری در سپرده بانکی و گواهی سپرده
C6: طی مرداد ماه | G6: از ابتدای سال مالی تا پایان مرداد ماه
A7: نام سپرده بانکی | C7: سود سپرده بانکی و گواهی سپرده | E7: درصد سود به میانگین سپرده | G7: سود سپرده بانکی و گواهی سپرده | I7: درصد سود به میانگین سپرده
A8: سپرده بانکی نزد بانک گردشگری | C8: 61362 | E8: ...... | G8: 46691608 | I8: ......
A9: سپرده بانکی نزد بانک پاسارگاد | C9: 5638 | E9: ...... | G9: 98372 | I9: ......
A10: سپرده بانکی نزد بانک خاورمیانه | C10: 7216719 | E10: ...... | G10: 15935497 | I10: ......
A11: سپرده بانکی نزد بانک شهر | C11: 29443 | E11: ...... | G11: 366486 | I11: ......
A12: سپرده بانکی نزد بانک گردشگری | C12: 0 | E12: ...... | G12: 1401119118 | I12: ......
A13: سپرده بانکی نزد بانک پاسارگاد | C13: 210411200 | E13: ...... | G13: 8188493130 | I13: ......
A14: سپرده کوتاه مدت بانک ملی بورس اوراق بهادار | C14: 23703 | E14: ...... | G14: 327564 | I14: ......
A15: جمع | C15: =SUM(C8:C14) -> 217748065 | E15: ...... | G15: =SUM(G8:G14) -> 9653031775 | I15: ......

Sheet سایر درآمدها
A1: صندوق اختصاصی بازارگردانی سپنتا
A2: صورت وضعیت درآمدها
A3: برای ماه منتهی به 1405/05/31
A5: 2-4-درآمد حاصل از سرمایه گذاری در واحدهای صندوق سرمایه گذاری
D6: طی مرداد ماه | F6: 1405/05/31
A7: سایر درآمدها | D7: مبلغ | F7: مبلغ
A8: سایر درآمدها | D8: 0 | F8: 0
A9: معین برای سایر درآمدهای تنزیل سود بانک | D9: 0 | F9: 1026349
A10: تعدیل کارمزد کارگزار | D10: 0 | F10: 0
A11: جمع | D11: =SUM(D8:D10) -> 0 | F11: =SUM(F8:F10) -> 1026349

Sheet سود سپرده بانکی
A1: صندوق اختصاصی بازارگردانی سپنتا
A2: صورت وضعیت درآمدها
A3: برای ماه منتهی به 1405/05/31
A5: 3-1-سود اوراق بهادار با درآمد ثابت و سپرده بانکی
A6: شرح | C6: طی مرداد ماه | I6: از ابتدای سال مالی تا پایان مرداد ماه
C7: درآمد سود | E7: هزینه تنزیل | G7: خالص درآمد | I7: درآمد سود | K7: هزینه تنزیل | M7: خالص درآمد
A8: سپرده بانکی نزد بانک گردشگری | C8: 61362 | E8: 0 | G8: =C8+E8 -> 61362 | I8: 46691608 | K8: 0 | M8: =I8+K8 -> 46691608
A9: سپرده بانکی نزد بانک پاسارگاد | C9: 5638 | E9: 0 | G9: =C9+E9 -> 5638 | I9: 98372 | K9: 0 | M9: =I9+K9 -> 98372
A10: سپرده بانکی نزد بانک خاورمیانه | C10: 7216719 | E10: 0 | G10: =C10+E10 -> 7216719 | I10: 15935497 | K10: 0 | M10: =I10+K10 -> 15935497
A11: سپرده بانکی نزد بانک شهر | C11: 29443 | E11: 0 | G11: =C11+E11 -> 29443 | I11: 366486 | K11: 0 | M11: =I11+K11 -> 366486
A12: سپرده بانکی نزد بانک گردشگری | C12: 0 | E12: 0 | G12: =C12+E12 -> 0 | I12: 1401119118 | K12: 0 | M12: =I12+K12 -> 1401119118
A13: سپرده بانکی نزد بانک پاسارگاد | C13: 210411200 | E13: 7279867 | G13: =C13+E13 -> 217691067 | I13: 8188493130 | K13: 0 | M13: =I13+K13 -> 8188493130
A14: سپرده کوتاه مدت بانک ملی بورس اوراق بهادار | C14: 23703 | E14: 0 | G14: =C14+E14 -> 23703 | I14: 327564 | K14: 0 | M14: =I14+K14 -> 327564
A15: جمع | C15: =SUM(C8:C14) -> 217748065 | E15: =SUM(E8:E14) -> 7279867 | G15: =SUM(G8:G14) -> 225027932 | I15: =SUM(I8:I14) -> 9653031775 | K15: =SUM(K8:K14) -> 0 | M15: =SUM(M8:N14) -> 9653031775

Sheet درآمد ناشی از فروش
A1: صندوق اختصاصی بازارگردانی سپنتا
A2: صورت وضعیت درآمدها
A3: برای ماه منتهی به 1405/05/31
A5: 3-2-سود(زیان) حاصل از فروش اوراق بهادار
A6: شرح | C6: طی مرداد ماه | K6: از ابتدای سال مالی تا پایان مرداد ماه
C7: تعداد | E7: خالص بهای فروش | G7: ارزش دفتری | I7: سود و زیان ناشی از فروش | K7: تعداد | M7: خالص بهای فروش | O7: ارزش دفتری | Q7: سود و زیان ناشی از فروش
A8: س. توسعه و عمران استان کرمان | C8: 150183013 | E8: 166806704997 | G8: 167931766508 | I8: =E8-G8 -> -1125061511 | K8: 525485825 | M8: 588762571750 | O8: 615056599634 | Q8: =M8-O8 -> -26294027884
A9: صندوق سهامی اکسیژن | C9: 12767548 | E9: 433409005255 | G9: 428167176279 | I9: =E9-G9 -> 5241828976 | K9: 49232609 | M9: 1358601069657 | O9: 1331601977669 | Q9: =M9-O9 -> 26999091988
A10: قند شیرین خراسان | C10: 14474371 | E10: 48226960620 | G10: 45614083993 | I10: =E10-G10 -> 2612876627 | K10: 28702321 | M10: 92691758393 | O10: 88311958186 | Q10: =M10-O10 -> 4379800207
A11: بیمه زندگی خاورمیانه | C11: 3254166 | E11: 20215245819 | G11: 12081409085 | I11: =E11-G11 -> 8133836734 | K11: 11338031 | M11: 59355128451 | O11: 41908652473 | Q11: =M11-O11 -> 17446475978
A12: صندوق درآمد ثابت پایا ثروت پویا | C12: 1768271 | E12: 48400100895 | G12: 47692004995 | I12: =E12-G12 -> 708095900 | K12: 1768271 | M12: 48400100895 | O12: 47692004995 | Q12: =M12-O12 -> 708095900
A13: صندوق سهامی بخشی صنایع سورنا2 | C13: 29206112 | E13: 757082452381 | G13: 720262046136 | I13: =E13-G13 -> 36820406245 | K13: 422446834 | M13: 8027989293836 | O13: 7775956136682 | Q13: =M13-O13 -> 252033157154
A14: صندوق سهامی سهم نگر جام جم | C14: 9172220 | E14: 131139977148 | G14: 112600557013 | I14: =E14-G14 -> 18539420135 | K14: 77615736 | M14: 905908461122 | O14: 838100829666 | Q14: =M14-O14 -> 67807631456
A15: صندوق درآمد ثابت کارا | C15: 3000701 | E15: 107736467688 | G15: 107541465503 | I15: =E15-G15 -> 195002185 | K15: 8149729 | M15: 274114715862 | O15: 273077959863 | Q15: =M15-O15 -> 1036755999
A16: صندوق درآمد ثابت کارآمد | C16: 5552948 | E16: 98365673398 | G16: 93790197865 | I16: =E16-G16 -> 4575475533 | K16: 5552948 | M16: 98365673398 | O16: 93790197865 | Q16: =M16-O16 -> 4575475533
A17: صندوق سهامی بخشی صنایع سورنا3 | C17: 30749401 | E17: 402930547772 | G17: 381826415937 | I17: =E17-G17 -> 21104131835 | K17: 120221660 | M17: 1440689524348 | O17: 1399864561954 | Q17: =M17-O17 -> 40824962394
A18: صندوق درآمد ثابت سام | C18: 719619026 | E18: 15049503453201 | G18: 15036831437580 | I18: =E18-G18 -> 12672015621 | K18: 8022094109 | M18: 149127147256311 | O18: 149026131631447 | Q18: =M18-O18 -> 101015624864
A19: صندوق سهامی بخشی صنایع سورنا | C19: 3902429 | E19: 84118196062 | G19: 74549508432 | I19: =E19-G19 -> 9568687630 | K19: 244281250 | M19: 4054700575320 | O19: 3955208976893 | Q19: =M19-O19 -> 99491598427
... A31: صندوق درآمد ثابت خاتم ایساتیس پویا | C31: 0 | E31: 0 | G31: 0 | I31: =E31-G31 -> 0 | K31: 1856063 | M31: 59729151803 | O31: 57958158103 | Q31: =M31-O31 -> 1770993700
A32: جمع | C32: =SUM(C8:C31) -> 983650206 | E32: =SUM(E8:E31) -> 17347934785236 | G32: =SUM(G8:G31) -> 17228888069326 | I32: =SUM(I8:I31) -> 119046715910 | K32: =SUM(K8:K31) -> 10309860174 | M32: =SUM(M8:M31) -> 172942717413287 | O32: =SUM(O8:O31) -> 172600700669830 | Q32: =SUM(Q8:Q31) -> 342016743457

Sheet درآمد ناشی از تغییر قیمت اوراق
A1: صندوق اختصاصی بازارگردانی سپنتا
A2: صورت وضعیت درآمدها
A3: برای ماه منتهی به 1405/05/31
A5: 3-3-درآمد ناشی از تغییر قیمت اوراق بهادار
A6: شرح | C6: طی مرداد ماه | K6: از ابتدای سال مالی تا پایان مرداد ماه
C7: تعداد | E7: خالص ارزش فروش | G7: ارزش دفتری | I7: سود و زیان ناشی از تغییر قیمت | K7: تعداد | M7: خالص ارزش فروش | O7: ارزش دفتری | Q7: سود و زیان ناشی از تغییر قیمت
A8: صندوق سهامی اکسیژن | C8: 1818593 | E8: 62763494610 | G8: 61228656539 | I8: =E8-G8 -> 1534838071 | K8: 1818593 | M8: 62763494610 | O8: 62518498106 | Q8: =M8-O8 -> 244996504
A9: صندوق درآمد ثابت کارا | C9: 81220 | E9: 2927226067 | G9: 2851726127 | I9: =E9-G9 -> 75499940 | K9: 81220 | M9: 2927226067 | O9: 2761366583 | Q9: =M9-O9 -> 165859484
A10: صندوق درآمد ثابت کارآمد | C10: 49910 | E10: 893907720 | G10: 4424396698 | I10: =E10-G10 -> -3530488978 | K10: 49910 | M10: 893907720 | O10: 876698589 | Q10: =M10-O10 -> 17209131
A11: صندوق سهامی بخشی صنایع سورنا | C11: 12894678 | E11: 312307215184 | G11: 258653162387 | I11: =E11-G11 -> 53654052797 | K11: 12894678 | M11: 312307215184 | O11: 258416623054 | Q11: =M11-O11 -> 53890592130
A12: صندوق سهامی بخشی صنایع سورنا2 | C12: 17545984 | E12: 509388678652 | G12: 475140114633 | I12: =E12-G12 -> 34248564019 | K12: 17545984 | M12: 509388678652 | O12: 459937222800 | Q12: =M12-O12 -> 49451455852
A13: بیمه زندگی خاورمیانه | C13: 132396139 | E13: 812294480117 | G13: 718727555701 | I13: =E13-G13 -> 93566924416 | K13: 132396139 | M13: 812294480117 | O13: 492039357298 | Q13: =M13-O13 -> 320255122819
A14: صندوق سهامی بخشی صنایع سورنا3 | C14: 14160776 | E14: 214875852075 | G14: 192539291949 | I14: =E14-G14 -> 22336560126 | K14: 14160776 | M14: 214875852075 | O14: 194080489248 | Q14: =M14-O14 -> 20795362827
A15: صندوق درآمد ثابت پایا ثروت پویا | C15: 1698786 | E15: 46672217695 | G15: 45817926323 | I15: =E15-G15 -> 854291372 | K15: 1698786 | M15: 46672217695 | O15: 45817926323 | Q15: =M15-O15 -> 854291372
A16: قند شیرین خراسان | C16: 114569010 | E16: 359473283915 | G16: 363801832349 | I16: =E16-G16 -> -4328548434 | K16: 114569010 | M16: 359473283915 | O16: 361824902343 | Q16: =M16-O16 -> -2351618428
A17: بیمه حافظ | C17: 237062628 | E17: 546961601070 | G17: 561648313614 | I17: =E17-G17 -> -14686712544 | K17: 237062628 | M17: 546961601070 | O17: 603051510815 | Q17: =M17-O17 -> -56089909745
A18: صندوق درآمد ثابت سام | C18: 41044599 | E18: 867331540248 | G18: 867465943404 | I18: =E18-G18 -> -134403156 | K18: 41044599 | M18: 867331540248 | O18: 866368171140 | Q18: =M18-O18 -> 963369108
A19: س. توسعه و عمران استان کرمان | C19: 117886924 | E19: 142299174565 | G19: 110464145478 | I19: =E19-G19 -> 31835029087 | K19: 117886924 | M19: 142299174565 | O19: 135288472749 | Q19: =M19-O19 -> 7010701816
... A21: صندوق درآمد ثابت آبی هامون | C21: 10000000 | E21: 99963125000 | G21: 100036875000 | I21: =E21-G21 -> -73750000 | K21: 10000000 | M21: 99963125000 | O21: 100036875000 | Q21: =M21-O21 -> -73750000
A22: جمع | C22: =SUM(C8:C21) -> 716830680 | E22: =SUM(E8:E21) -> 4223233020040 | G22: =SUM(G8:G21) -> 3973414369171 | I22: =SUM(I8:I21) -> 249818650869 | K22: =SUM(K8:K21) -> 716830680 | M22: =SUM(M8:M21) -> 4223233020040 | O22: =SUM(O8:O21) -> 3788141924258 | Q22: =SUM(Q8:Q21) -> 435091095782

Sheet درآمد سود سهام
A1: صندوق اختصاصی بازارگردانی سپنتا
A2: صورت وضعیت درآمدها
A3: برای ماه منتهی به 1405/05/31
A5: 3-4-درآمد سود سهام
A6: نام سهام | C6: اطلاعات مجمع | I6: طی مرداد ماه | O6: از ابتدای سال مالی تا پایان مرداد ماه
C7: تاریخ تشکیل مجمع | E7: تعداد سهام متعلقه در زمان مجمع | G7: سود متعلق به هر سهم | I7: جمع درآمد سود سهام | K7: هزینه تنزیل | M7: خالص درآمد سود سهام | O7: جمع درآمد سود سهام | Q7: هزینه تنزیل | S7: خالص درآمد سود سهام
A8: س. توسعه و عمران استان کرمان | C8: 1405/02/23 | E8: 227915462 | G8: 4 | I8: 0 | K8: 0 | M8: =I8+K8 -> 0 | O8: =E8*G8 -> 911661848 | Q8: 0 | S8: =O8+Q8 -> 911661848
A9: بیمه حافظ | C9: 1405/04/31 | E9: 237062628 | G9: 37 | I9: 0 | K9: 0 | M9: =I9+K9 -> 0 | O9: =E9*G9 -> 8771317236 | Q9: -1112152664 | S9: =O9+Q9 -> 7659164572
A10: بیمه زندگی خاورمیانه | C10: 1405/05/19 | E10: 132238791 | G10: 400 | I10: 52895516400 | K10: -7225821578 | M10: =I10+K10 -> 45669694822 | O10: =E10*G10 -> 52895516400 | Q10: -7225821578 | S10: =O10+Q10 -> 45669694822
A11: جمع | I11: =SUM(I8:I10) -> 52895516400 | K11: =SUM(K8:K10) -> -7225821578 | M11: =SUM(M8:M10) -> 45669694822 | O11: =SUM(O8:O10) -> 62578495484 | Q11: =SUM(Q8:Q10) -> -8337974242 | S11: =SUM(S8:S10) -> 54240521242
